BEGIN:VCALENDAR
VERSION:2.0
PRODID:-//REALTORS® Association of Central Indiana - ECPv6.15.20//NONSGML v1.0//EN
CALSCALE:GREGORIAN
METHOD:PUBLISH
X-ORIGINAL-URL:https://raci.org
X-WR-CALDESC:Events for REALTORS® Association of Central Indiana
REFRESH-INTERVAL;VALUE=DURATION:PT1H
X-Robots-Tag:noindex
X-PUBLISHED-TTL:PT1H
BEGIN:VTIMEZONE
TZID:America/Indiana/Indianapolis
BEGIN:DAYLIGHT
TZOFFSETFROM:-0500
TZOFFSETTO:-0400
TZNAME:EDT
DTSTART:20190310T070000
END:DAYLIGHT
BEGIN:STANDARD
TZOFFSETFROM:-0400
TZOFFSETTO:-0500
TZNAME:EST
DTSTART:20191103T060000
END:STANDARD
BEGIN:DAYLIGHT
TZOFFSETFROM:-0500
TZOFFSETTO:-0400
TZNAME:EDT
DTSTART:20200308T070000
END:DAYLIGHT
BEGIN:STANDARD
TZOFFSETFROM:-0400
TZOFFSETTO:-0500
TZNAME:EST
DTSTART:20201101T060000
END:STANDARD
BEGIN:DAYLIGHT
TZOFFSETFROM:-0500
TZOFFSETTO:-0400
TZNAME:EDT
DTSTART:20210314T070000
END:DAYLIGHT
BEGIN:STANDARD
TZOFFSETFROM:-0400
TZOFFSETTO:-0500
TZNAME:EST
DTSTART:20211107T060000
END:STANDARD
BEGIN:DAYLIGHT
TZOFFSETFROM:-0500
TZOFFSETTO:-0400
TZNAME:EDT
DTSTART:20220313T070000
END:DAYLIGHT
BEGIN:STANDARD
TZOFFSETFROM:-0400
TZOFFSETTO:-0500
TZNAME:EST
DTSTART:20221106T060000
END:STANDARD
END:VTIMEZONE
BEGIN:VEVENT
DTSTART;TZID=America/Indiana/Indianapolis:20210922T173000
DTEND;TZID=America/Indiana/Indianapolis:20210922T213000
DTSTAMP:20260419T152549
CREATED:20210526T124731Z
LAST-MODIFIED:20210906T125709Z
UID:3634-1632331800-1632346200@raci.org
SUMMARY:RPAC Kokomo Auction
DESCRIPTION:
URL:https://raci.org/event/rpac-kokomo-auction/
LOCATION:The Legacy Barn\, 951 N 600 W\, Kokomo\, IN\, 46901
CATEGORIES:RPAC
END:VEVENT
BEGIN:VEVENT
DTSTART;TZID=America/Indiana/Indianapolis:20210915T113000
DTEND;TZID=America/Indiana/Indianapolis:20210915T133000
DTSTAMP:20260419T152549
CREATED:20210526T124452Z
LAST-MODIFIED:20210906T125124Z
UID:3630-1631705400-1631712600@raci.org
SUMMARY:RPAC Marion Auction
DESCRIPTION:
URL:https://raci.org/event/rpac-marion-auction/
LOCATION:Gar­den House at Mat­ter Park\, N River Rd &\, N Quarry Rd\, Marion\, IN\, 46952
CATEGORIES:RPAC
END:VEVENT
BEGIN:VEVENT
DTSTART;TZID=America/Indiana/Indianapolis:20200827T083000
DTEND;TZID=America/Indiana/Indianapolis:20200827T133000
DTSTAMP:20260419T152549
CREATED:20200818T131450Z
LAST-MODIFIED:20200818T131923Z
UID:3237-1598517000-1598535000@raci.org
SUMMARY:New Member Orientation - Summer
DESCRIPTION:New Member Orientation is by invitation only. New members who are required to complete NMO will be sent a registration invite once registration for New Member Orientation opens. Please do not register if you did not receive an invitation. Contact Membership Director Stefani Closson with questions: stefani@raci.org or 765-457-0089
URL:https://raci.org/event/new-member-orientation-summer/
LOCATION:RACI\, 1620 E Hoffer St\, Kokomo\, IN\, 46902\, United States
END:VEVENT
BEGIN:VEVENT
DTSTART;TZID=America/Indiana/Indianapolis:20200821T083000
DTEND;TZID=America/Indiana/Indianapolis:20200821T100000
DTSTAMP:20260419T152549
CREATED:20200818T170541Z
LAST-MODIFIED:20200818T132026Z
UID:3233-1597998600-1598004000@raci.org
SUMMARY:August BOD Meeting
DESCRIPTION:
URL:https://raci.org/event/august-bod-meeting/
LOCATION:IN
CATEGORIES:BOD
END:VEVENT
END:VCALENDAR